BEGIN:VCALENDAR
VERSION:2.0
PRODID:CSU
BEGIN:VEVENT
UID:495894
DTSTART;TZID="+02:00":20210914T190000
SEQUENCE:0
TRANSP:OPAQUE
DTEND;TZID="+02:00":20210914T200000
URL:https://www.csu.de/verbaende/ov/hohenlinden/aktuelles/10maerz2020/14sep
 tember2021/
LOCATION:Hohenlinden
X-APPLE-STRUCTURED-LOCATION;VALUE=URI;X-ADDRESS=Hohenlinden;X-APPLE-RADIUS=
 49;X-TITLE=Bürgerstüberl\nAm Niederfeld 10\n85664 Hohenlinden:geo:48.790
 447,11.497890
GEO:48.790447;11.497890
SUMMARY:Hauptversammlung mit Neuwahlen: Hauptversammlung mit Neuwahlen
CLASS:PUBLIC
DESCRIPTION:Weitere Infos unter: https://www.csu.de/verbaende/ov/hohenlinde
 n/aktuelles/10maerz2020/14september2021/
X-ALT-DESC;FMTTYPE=text/html:Weitere Infos unter: <a href=\"https://www.csu
 .de/verbaende/ov/hohenlinden/aktuelles/10maerz2020/14september2021/\">http
 s://www.csu.de/verbaende/ov/hohenlinden/aktuelles/10maerz2020/14september2
 021/</a>
DTSTAMP:20211002T043352Z
END:VEVENT
END:VCALENDAR