BEGIN:VCALENDAR
VERSION:2.0
PRODID:CSU
BEGIN:VEVENT
UID:483828
DTSTART;TZID="+01:00":20200218T190000
SEQUENCE:0
TRANSP:OPAQUE
DTEND;TZID="+01:00":20200218T200000
URL:https://www.csu.de/verbaende/ov/hohenlinden/aktuelles/februar-2020/csu-
 stammtisch/
LOCATION:Hohenlinden
X-APPLE-STRUCTURED-LOCATION;VALUE=URI;X-ADDRESS=Hohenlinden;X-APPLE-RADIUS=
 49;X-TITLE=Gasthof zur Post\nHauptstrasse 6\n85664 Hohenlinden:geo:48.7904
 47,11.497890
GEO:48.790447;11.497890
SUMMARY:CSU Stammtisch im Gasthof zur Post: CSU Stammtisch
CLASS:PUBLIC
DESCRIPTION:Weitere Infos unter: https://www.csu.de/verbaende/ov/hohenlinde
 n/aktuelles/februar-2020/csu-stammtisch/
X-ALT-DESC;FMTTYPE=text/html:Weitere Infos unter: <a href=\"https://www.csu
 .de/verbaende/ov/hohenlinden/aktuelles/februar-2020/csu-stammtisch/\">http
 s://www.csu.de/verbaende/ov/hohenlinden/aktuelles/februar-2020/csu-stammti
 sch/</a>
DTSTAMP:20211002T043405Z
END:VEVENT
END:VCALENDAR