BEGIN:VCALENDAR
VERSION:2.0
PRODID:CSU
BEGIN:VEVENT
UID:611093
DTSTART;TZID="+01:00":20200310T190000
SEQUENCE:0
TRANSP:OPAQUE
DTEND;TZID="+01:00":20200310T200000
URL:https://www.csu.de/verbaende/ov/hohenlinden/aktuelles/maerz202/10maerz2
 020/
LOCATION:Hohenlinden
X-APPLE-STRUCTURED-LOCATION;VALUE=URI;X-ADDRESS=Hohenlinden;X-APPLE-RADIUS=
 49;X-TITLE=Bürgerstüberl\nAm Niederfeld 10\n85664 Hohenlinden:geo:48.790
 447,11.497890
GEO:48.790447;11.497890
SUMMARY:CSU Stammtisch im Bürgerstüberl: CSU Stammtisch 10.03.2020
CLASS:PUBLIC
DESCRIPTION:Weitere Infos unter: https://www.csu.de/verbaende/ov/hohenlinde
 n/aktuelles/maerz202/10maerz2020/
X-ALT-DESC;FMTTYPE=text/html:Weitere Infos unter: <a href=\"https://www.csu
 .de/verbaende/ov/hohenlinden/aktuelles/maerz202/10maerz2020/\">https://www
 .csu.de/verbaende/ov/hohenlinden/aktuelles/maerz202/10maerz2020/</a>
DTSTAMP:20211002T043338Z
END:VEVENT
END:VCALENDAR