BEGIN:VCALENDAR
VERSION:2.0
PRODID:CSU
BEGIN:VEVENT
UID:495873
DTSTART;TZID="+01:00":20200303T190000
SEQUENCE:0
TRANSP:OPAQUE
DTEND;TZID="+01:00":20200303T200000
URL:https://www.csu.de/verbaende/ov/hohenlinden/aktuelles/maerz2020/maerz20
 20/
LOCATION:Hohenlinden
X-APPLE-STRUCTURED-LOCATION;VALUE=URI;X-ADDRESS=Hohenlinden;X-APPLE-RADIUS=
 49;X-TITLE=Gasthof zur Post\nHauptstrasse 6\n85664 Hohenlinden:geo:48.7904
 47,11.497890
GEO:48.790447;11.497890
SUMMARY:CSU Stammtisch im Gasthof zur Post: CSU Stammtisch 03.03.2020
CLASS:PUBLIC
DESCRIPTION:Weitere Infos unter: https://www.csu.de/verbaende/ov/hohenlinde
 n/aktuelles/maerz2020/maerz2020/
X-ALT-DESC;FMTTYPE=text/html:Weitere Infos unter: <a href=\"https://www.csu
 .de/verbaende/ov/hohenlinden/aktuelles/maerz2020/maerz2020/\">https://www.
 csu.de/verbaende/ov/hohenlinden/aktuelles/maerz2020/maerz2020/</a>
DTSTAMP:20211002T043312Z
END:VEVENT
END:VCALENDAR