BEGIN:VCALENDAR
VERSION:2.0
PRODID:CSU
BEGIN:VEVENT
UID:206439
DTSTART;TZID="+02:00":20170924T080000
SEQUENCE:0
TRANSP:OPAQUE
DTEND;TZID="+02:00":20170924T090000
URL:https://www.csu.de/verbaende/ov/theilheim-ufr/termine/september-2017/wa
 hl/
LOCATION:Theilheim
X-APPLE-STRUCTURED-LOCATION;VALUE=URI;X-ADDRESS=Theilheim;X-APPLE-RADIUS=49
 ;X-TITLE=von-Erthal-Str.\n97534 Waigolshausen:geo:49.944002,10.143742
GEO:49.944002;10.143742
SUMMARY:Wahl: Das Recht zur Wahl nicht vergessen!
CLASS:PUBLIC
DESCRIPTION:Weitere Infos unter: https://www.csu.de/verbaende/ov/theilheim-
 ufr/termine/september-2017/wahl/
X-ALT-DESC;FMTTYPE=text/html:Weitere Infos unter: <a href=\"https://www.csu
 .de/verbaende/ov/theilheim-ufr/termine/september-2017/wahl/\">https://www.
 csu.de/verbaende/ov/theilheim-ufr/termine/september-2017/wahl/</a>
DTSTAMP:20211002T073121Z
END:VEVENT
END:VCALENDAR